BEGIN:VCALENDAR
VERSION:2.0
PRODID:-//Rizal Center - ECPv6.15.20//NONSGML v1.0//EN
CALSCALE:GREGORIAN
METHOD:PUBLISH
X-WR-CALNAME:Rizal Center
X-ORIGINAL-URL:https://rizalcenter.org
X-WR-CALDESC:Events for Rizal Center
REFRESH-INTERVAL;VALUE=DURATION:PT1H
X-Robots-Tag:noindex
X-PUBLISHED-TTL:PT1H
BEGIN:VTIMEZONE
TZID:America/Chicago
BEGIN:DAYLIGHT
TZOFFSETFROM:-0600
TZOFFSETTO:-0500
TZNAME:CDT
DTSTART:20250309T080000
END:DAYLIGHT
BEGIN:STANDARD
TZOFFSETFROM:-0500
TZOFFSETTO:-0600
TZNAME:CST
DTSTART:20251102T070000
END:STANDARD
BEGIN:DAYLIGHT
TZOFFSETFROM:-0600
TZOFFSETTO:-0500
TZNAME:CDT
DTSTART:20260308T080000
END:DAYLIGHT
BEGIN:STANDARD
TZOFFSETFROM:-0500
TZOFFSETTO:-0600
TZNAME:CST
DTSTART:20261101T070000
END:STANDARD
BEGIN:DAYLIGHT
TZOFFSETFROM:-0600
TZOFFSETTO:-0500
TZNAME:CDT
DTSTART:20270314T080000
END:DAYLIGHT
BEGIN:STANDARD
TZOFFSETFROM:-0500
TZOFFSETTO:-0600
TZNAME:CST
DTSTART:20271107T070000
END:STANDARD
END:VTIMEZONE
BEGIN:VEVENT
DTSTART;TZID=America/Chicago:20260422T100000
DTEND;TZID=America/Chicago:20260422T110000
DTSTAMP:20260421T003833
CREATED:20230706T172615Z
LAST-MODIFIED:20230819T173840Z
UID:10000845-1776852000-1776855600@rizalcenter.org
SUMMARY:Line Dancing 4th Wed
DESCRIPTION:Line dancing is not just a dance; it’s an incredible fitness activity that combines music\, movement\, and camaraderie. Regardless of your age\, background\, or dance experience\, line dancing welcomes everyone with open arms and happy feet! \n\n\n\nLine Dance Leader: Nonoy Tabo
URL:https://rizalcenter.org/event/line-dancing/2026-04-22/
LOCATION:Rizal Center\, 1332 West Irving Park Road\, Chicago\, IL\, 60613\, United States
CATEGORIES:Programs
ATTACH;FMTTYPE=image/jpeg:https://rizalcenter.org/wp-content/uploads/2023/06/line-dancing_n.jpeg
END:VEVENT
BEGIN:VEVENT
DTSTART;TZID=America/Chicago:20260422T110000
DTEND;TZID=America/Chicago:20260422T150000
DTSTAMP:20260421T003833
CREATED:20250713T001423Z
LAST-MODIFIED:20250713T001424Z
UID:10006296-1776855600-1776870000@rizalcenter.org
SUMMARY:Bingo at the Rizal Center
DESCRIPTION:Enjoy playing Bingo while making social connections. For more information\, call 773-360-8597 or email info@rizalcenter.org
URL:https://rizalcenter.org/event/bingo-at-the-rizal-center/2026-04-22/
LOCATION:Rizal Center\, 1332 West Irving Park Road\, Chicago\, IL\, 60613\, United States
CATEGORIES:Culture,Programs
END:VEVENT
BEGIN:VEVENT
DTSTART;TZID=America/Chicago:20260423T183000
DTEND;TZID=America/Chicago:20260423T203000
DTSTAMP:20260421T003833
CREATED:20260323T173831Z
LAST-MODIFIED:20260323T173833Z
UID:10002742-1776969000-1776976200@rizalcenter.org
SUMMARY:HG Wrestling & Grappling
DESCRIPTION:Class on wrestling and grappling by Haymaker Gym. For more info contact martialarts@rizalcenter.org.
URL:https://rizalcenter.org/event/hg-wrestling-grappling-3/2026-04-23/
LOCATION:Rizal Center\, 1332 West Irving Park Road\, Chicago\, IL\, 60613\, United States
CATEGORIES:Programs,Wellness
ATTACH;FMTTYPE=image/jpeg:https://rizalcenter.org/wp-content/uploads/2024/05/Haymaker_Gym_317295417.jpg
ORGANIZER;CN="MARC":MAILTO:martialarts@rizalcenter.org
END:VEVENT
BEGIN:VEVENT
DTSTART;TZID=America/Chicago:20260425T120000
DTEND;TZID=America/Chicago:20260425T133000
DTSTAMP:20260421T003833
CREATED:20260323T173910Z
LAST-MODIFIED:20260323T173912Z
UID:10003003-1777118400-1777123800@rizalcenter.org
SUMMARY:HG Open Gym
DESCRIPTION:Open gym for strength stretching\, and conditioning by Haymaker Gym. For more info contact martialarts@rizalcenter.org.
URL:https://rizalcenter.org/event/hg-open-gym-2/2026-04-25/
LOCATION:Rizal Center\, 1332 West Irving Park Road\, Chicago\, IL\, 60613\, United States
CATEGORIES:Programs,Wellness
ATTACH;FMTTYPE=image/jpeg:https://rizalcenter.org/wp-content/uploads/2024/05/Haymaker_Gym_317295417.jpg
ORGANIZER;CN="MARC":MAILTO:martialarts@rizalcenter.org
END:VEVENT
BEGIN:VEVENT
DTSTART;TZID=America/Chicago:20260425T133000
DTEND;TZID=America/Chicago:20260425T153000
DTSTAMP:20260421T003833
CREATED:20260323T173949Z
LAST-MODIFIED:20260323T173951Z
UID:10003525-1777123800-1777131000@rizalcenter.org
SUMMARY:HG Boxing
DESCRIPTION:Class on boxing by Haymaker Gym. For more info contact martialarts@rizalcenter.org.
URL:https://rizalcenter.org/event/hg-boxing-3/2026-04-25/
LOCATION:Rizal Center\, 1332 West Irving Park Road\, Chicago\, IL\, 60613\, United States
CATEGORIES:Programs,Wellness
ATTACH;FMTTYPE=image/jpeg:https://rizalcenter.org/wp-content/uploads/2024/05/Haymaker_Gym_317295417.jpg
ORGANIZER;CN="MARC":MAILTO:martialarts@rizalcenter.org
END:VEVENT
BEGIN:VEVENT
DTSTART;TZID=America/Chicago:20260425T153000
DTEND;TZID=America/Chicago:20260425T170000
DTSTAMP:20260421T003833
CREATED:20260323T174027Z
LAST-MODIFIED:20260323T174029Z
UID:10004047-1777131000-1777136400@rizalcenter.org
SUMMARY:HG Muay Thai
DESCRIPTION:Class on southeast Asian kickboxing by Haymaker Gym. For more info contact martialarts@rizalcenter.org.
URL:https://rizalcenter.org/event/hg-muay-thai/2026-04-25/
LOCATION:Rizal Center\, 1332 West Irving Park Road\, Chicago\, IL\, 60613\, United States
CATEGORIES:Programs,Wellness
ATTACH;FMTTYPE=image/jpeg:https://rizalcenter.org/wp-content/uploads/2024/05/Haymaker_Gym_317295417.jpg
ORGANIZER;CN="MARC":MAILTO:martialarts@rizalcenter.org
END:VEVENT
BEGIN:VEVENT
DTSTART;TZID=America/Chicago:20260426T133000
DTEND;TZID=America/Chicago:20260426T150000
DTSTAMP:20260421T003833
CREATED:20260323T174146Z
LAST-MODIFIED:20260323T174148Z
UID:10004569-1777210200-1777215600@rizalcenter.org
SUMMARY:GH Filipino Martial Arts
DESCRIPTION:Class on Filipino Martial Arts (FMA) by George Hernandez. For more info contact martialarts@rizalcenter.org.
URL:https://rizalcenter.org/event/gh-filipino-martial-arts/2026-04-26/
LOCATION:Rizal Center\, 1332 West Irving Park Road\, Chicago\, IL\, 60613\, United States
CATEGORIES:Programs,Wellness
ATTACH;FMTTYPE=image/jpeg:https://rizalcenter.org/wp-content/uploads/2023/06/Pambansang_Bantayog_ni_Andres_Bonifacio_Bonifacio_National_Monument.jpg
ORGANIZER;CN="MARC":MAILTO:martialarts@rizalcenter.org
END:VEVENT
BEGIN:VEVENT
DTSTART;TZID=America/Chicago:20260429T110000
DTEND;TZID=America/Chicago:20260429T150000
DTSTAMP:20260421T003833
CREATED:20250713T001423Z
LAST-MODIFIED:20250713T001424Z
UID:10006297-1777460400-1777474800@rizalcenter.org
SUMMARY:Bingo at the Rizal Center
DESCRIPTION:Enjoy playing Bingo while making social connections. For more information\, call 773-360-8597 or email info@rizalcenter.org
URL:https://rizalcenter.org/event/bingo-at-the-rizal-center/2026-04-29/
LOCATION:Rizal Center\, 1332 West Irving Park Road\, Chicago\, IL\, 60613\, United States
CATEGORIES:Culture,Programs
END:VEVENT
BEGIN:VEVENT
DTSTART;TZID=America/Chicago:20260430T183000
DTEND;TZID=America/Chicago:20260430T203000
DTSTAMP:20260421T003833
CREATED:20260323T173831Z
LAST-MODIFIED:20260323T173833Z
UID:10002743-1777573800-1777581000@rizalcenter.org
SUMMARY:HG Wrestling & Grappling
DESCRIPTION:Class on wrestling and grappling by Haymaker Gym. For more info contact martialarts@rizalcenter.org.
URL:https://rizalcenter.org/event/hg-wrestling-grappling-3/2026-04-30/
LOCATION:Rizal Center\, 1332 West Irving Park Road\, Chicago\, IL\, 60613\, United States
CATEGORIES:Programs,Wellness
ATTACH;FMTTYPE=image/jpeg:https://rizalcenter.org/wp-content/uploads/2024/05/Haymaker_Gym_317295417.jpg
ORGANIZER;CN="MARC":MAILTO:martialarts@rizalcenter.org
END:VEVENT
BEGIN:VEVENT
DTSTART;TZID=America/Chicago:20260502T120000
DTEND;TZID=America/Chicago:20260502T133000
DTSTAMP:20260421T003833
CREATED:20260323T173910Z
LAST-MODIFIED:20260323T173912Z
UID:10003004-1777723200-1777728600@rizalcenter.org
SUMMARY:HG Open Gym
DESCRIPTION:Open gym for strength stretching\, and conditioning by Haymaker Gym. For more info contact martialarts@rizalcenter.org.
URL:https://rizalcenter.org/event/hg-open-gym-2/2026-05-02/
LOCATION:Rizal Center\, 1332 West Irving Park Road\, Chicago\, IL\, 60613\, United States
CATEGORIES:Programs,Wellness
ATTACH;FMTTYPE=image/jpeg:https://rizalcenter.org/wp-content/uploads/2024/05/Haymaker_Gym_317295417.jpg
ORGANIZER;CN="MARC":MAILTO:martialarts@rizalcenter.org
END:VEVENT
BEGIN:VEVENT
DTSTART;TZID=America/Chicago:20260502T133000
DTEND;TZID=America/Chicago:20260502T153000
DTSTAMP:20260421T003833
CREATED:20260323T173949Z
LAST-MODIFIED:20260323T173951Z
UID:10003526-1777728600-1777735800@rizalcenter.org
SUMMARY:HG Boxing
DESCRIPTION:Class on boxing by Haymaker Gym. For more info contact martialarts@rizalcenter.org.
URL:https://rizalcenter.org/event/hg-boxing-3/2026-05-02/
LOCATION:Rizal Center\, 1332 West Irving Park Road\, Chicago\, IL\, 60613\, United States
CATEGORIES:Programs,Wellness
ATTACH;FMTTYPE=image/jpeg:https://rizalcenter.org/wp-content/uploads/2024/05/Haymaker_Gym_317295417.jpg
ORGANIZER;CN="MARC":MAILTO:martialarts@rizalcenter.org
END:VEVENT
BEGIN:VEVENT
DTSTART;TZID=America/Chicago:20260502T153000
DTEND;TZID=America/Chicago:20260502T170000
DTSTAMP:20260421T003833
CREATED:20260323T174027Z
LAST-MODIFIED:20260323T174029Z
UID:10004048-1777735800-1777741200@rizalcenter.org
SUMMARY:HG Muay Thai
DESCRIPTION:Class on southeast Asian kickboxing by Haymaker Gym. For more info contact martialarts@rizalcenter.org.
URL:https://rizalcenter.org/event/hg-muay-thai/2026-05-02/
LOCATION:Rizal Center\, 1332 West Irving Park Road\, Chicago\, IL\, 60613\, United States
CATEGORIES:Programs,Wellness
ATTACH;FMTTYPE=image/jpeg:https://rizalcenter.org/wp-content/uploads/2024/05/Haymaker_Gym_317295417.jpg
ORGANIZER;CN="MARC":MAILTO:martialarts@rizalcenter.org
END:VEVENT
BEGIN:VEVENT
DTSTART;TZID=America/Chicago:20260503T133000
DTEND;TZID=America/Chicago:20260503T150000
DTSTAMP:20260421T003833
CREATED:20260323T174146Z
LAST-MODIFIED:20260323T174148Z
UID:10004570-1777815000-1777820400@rizalcenter.org
SUMMARY:GH Filipino Martial Arts
DESCRIPTION:Class on Filipino Martial Arts (FMA) by George Hernandez. For more info contact martialarts@rizalcenter.org.
URL:https://rizalcenter.org/event/gh-filipino-martial-arts/2026-05-03/
LOCATION:Rizal Center\, 1332 West Irving Park Road\, Chicago\, IL\, 60613\, United States
CATEGORIES:Programs,Wellness
ATTACH;FMTTYPE=image/jpeg:https://rizalcenter.org/wp-content/uploads/2023/06/Pambansang_Bantayog_ni_Andres_Bonifacio_Bonifacio_National_Monument.jpg
ORGANIZER;CN="MARC":MAILTO:martialarts@rizalcenter.org
END:VEVENT
BEGIN:VEVENT
DTSTART;TZID=America/Chicago:20260506T110000
DTEND;TZID=America/Chicago:20260506T150000
DTSTAMP:20260421T003833
CREATED:20250713T001423Z
LAST-MODIFIED:20250713T001424Z
UID:10006298-1778065200-1778079600@rizalcenter.org
SUMMARY:Bingo at the Rizal Center
DESCRIPTION:Enjoy playing Bingo while making social connections. For more information\, call 773-360-8597 or email info@rizalcenter.org
URL:https://rizalcenter.org/event/bingo-at-the-rizal-center/2026-05-06/
LOCATION:Rizal Center\, 1332 West Irving Park Road\, Chicago\, IL\, 60613\, United States
CATEGORIES:Culture,Programs
END:VEVENT
BEGIN:VEVENT
DTSTART;TZID=America/Chicago:20260506T180000
DTEND;TZID=America/Chicago:20260506T200000
DTSTAMP:20260421T003833
CREATED:20260305T004424Z
LAST-MODIFIED:20260306T101309Z
UID:10007189-1778090400-1778097600@rizalcenter.org
SUMMARY:Balikbayan Book Club
DESCRIPTION:Monthly book reading and discussion \n\n\n\nApril \n\n\n\nThe Diaspora Sonnets by Oliver de la Paz
URL:https://rizalcenter.org/event/balikbayan-book-club/2026-05-06/
LOCATION:Rizal Center\, 1332 West Irving Park Road\, Chicago\, IL\, 60613\, United States
CATEGORIES:Arts,Culture,Programs
END:VEVENT
BEGIN:VEVENT
DTSTART;TZID=America/Chicago:20260507T183000
DTEND;TZID=America/Chicago:20260507T203000
DTSTAMP:20260421T003833
CREATED:20260323T173831Z
LAST-MODIFIED:20260323T173833Z
UID:10002744-1778178600-1778185800@rizalcenter.org
SUMMARY:HG Wrestling & Grappling
DESCRIPTION:Class on wrestling and grappling by Haymaker Gym. For more info contact martialarts@rizalcenter.org.
URL:https://rizalcenter.org/event/hg-wrestling-grappling-3/2026-05-07/
LOCATION:Rizal Center\, 1332 West Irving Park Road\, Chicago\, IL\, 60613\, United States
CATEGORIES:Programs,Wellness
ATTACH;FMTTYPE=image/jpeg:https://rizalcenter.org/wp-content/uploads/2024/05/Haymaker_Gym_317295417.jpg
ORGANIZER;CN="MARC":MAILTO:martialarts@rizalcenter.org
END:VEVENT
BEGIN:VEVENT
DTSTART;TZID=America/Chicago:20260509T120000
DTEND;TZID=America/Chicago:20260509T133000
DTSTAMP:20260421T003833
CREATED:20260323T173910Z
LAST-MODIFIED:20260323T173912Z
UID:10003005-1778328000-1778333400@rizalcenter.org
SUMMARY:HG Open Gym
DESCRIPTION:Open gym for strength stretching\, and conditioning by Haymaker Gym. For more info contact martialarts@rizalcenter.org.
URL:https://rizalcenter.org/event/hg-open-gym-2/2026-05-09/
LOCATION:Rizal Center\, 1332 West Irving Park Road\, Chicago\, IL\, 60613\, United States
CATEGORIES:Programs,Wellness
ATTACH;FMTTYPE=image/jpeg:https://rizalcenter.org/wp-content/uploads/2024/05/Haymaker_Gym_317295417.jpg
ORGANIZER;CN="MARC":MAILTO:martialarts@rizalcenter.org
END:VEVENT
BEGIN:VEVENT
DTSTART;TZID=America/Chicago:20260509T133000
DTEND;TZID=America/Chicago:20260509T153000
DTSTAMP:20260421T003833
CREATED:20260323T173949Z
LAST-MODIFIED:20260323T173951Z
UID:10003527-1778333400-1778340600@rizalcenter.org
SUMMARY:HG Boxing
DESCRIPTION:Class on boxing by Haymaker Gym. For more info contact martialarts@rizalcenter.org.
URL:https://rizalcenter.org/event/hg-boxing-3/2026-05-09/
LOCATION:Rizal Center\, 1332 West Irving Park Road\, Chicago\, IL\, 60613\, United States
CATEGORIES:Programs,Wellness
ATTACH;FMTTYPE=image/jpeg:https://rizalcenter.org/wp-content/uploads/2024/05/Haymaker_Gym_317295417.jpg
ORGANIZER;CN="MARC":MAILTO:martialarts@rizalcenter.org
END:VEVENT
BEGIN:VEVENT
DTSTART;TZID=America/Chicago:20260509T153000
DTEND;TZID=America/Chicago:20260509T170000
DTSTAMP:20260421T003833
CREATED:20260323T174027Z
LAST-MODIFIED:20260323T174029Z
UID:10004049-1778340600-1778346000@rizalcenter.org
SUMMARY:HG Muay Thai
DESCRIPTION:Class on southeast Asian kickboxing by Haymaker Gym. For more info contact martialarts@rizalcenter.org.
URL:https://rizalcenter.org/event/hg-muay-thai/2026-05-09/
LOCATION:Rizal Center\, 1332 West Irving Park Road\, Chicago\, IL\, 60613\, United States
CATEGORIES:Programs,Wellness
ATTACH;FMTTYPE=image/jpeg:https://rizalcenter.org/wp-content/uploads/2024/05/Haymaker_Gym_317295417.jpg
ORGANIZER;CN="MARC":MAILTO:martialarts@rizalcenter.org
END:VEVENT
BEGIN:VEVENT
DTSTART;TZID=America/Chicago:20260510T133000
DTEND;TZID=America/Chicago:20260510T150000
DTSTAMP:20260421T003833
CREATED:20260323T174146Z
LAST-MODIFIED:20260323T174148Z
UID:10004571-1778419800-1778425200@rizalcenter.org
SUMMARY:GH Filipino Martial Arts
DESCRIPTION:Class on Filipino Martial Arts (FMA) by George Hernandez. For more info contact martialarts@rizalcenter.org.
URL:https://rizalcenter.org/event/gh-filipino-martial-arts/2026-05-10/
LOCATION:Rizal Center\, 1332 West Irving Park Road\, Chicago\, IL\, 60613\, United States
CATEGORIES:Programs,Wellness
ATTACH;FMTTYPE=image/jpeg:https://rizalcenter.org/wp-content/uploads/2023/06/Pambansang_Bantayog_ni_Andres_Bonifacio_Bonifacio_National_Monument.jpg
ORGANIZER;CN="MARC":MAILTO:martialarts@rizalcenter.org
END:VEVENT
BEGIN:VEVENT
DTSTART;TZID=America/Chicago:20260513T100000
DTEND;TZID=America/Chicago:20260513T110000
DTSTAMP:20260421T003833
CREATED:20230706T172815Z
LAST-MODIFIED:20230712T152505Z
UID:10000967-1778666400-1778670000@rizalcenter.org
SUMMARY:Line Dancing 2nd Wed
DESCRIPTION:Line dancing is not just a dance; it’s an incredible fitness activity that combines music\, movement\, and camaraderie. Regardless of your age\, background\, or dance experience\, line dancing welcomes everyone with open arms and happy feet! \n\n\n\nLine Dance Leader: Nonoy Tabo
URL:https://rizalcenter.org/event/line-dancing-2/2026-05-13/
LOCATION:Rizal Center\, 1332 West Irving Park Road\, Chicago\, IL\, 60613\, United States
CATEGORIES:Programs
ATTACH;FMTTYPE=image/png:https://rizalcenter.org/wp-content/uploads/2023/06/84141C0D-FB7A-4E79-84C8-46969848F389.png
END:VEVENT
BEGIN:VEVENT
DTSTART;TZID=America/Chicago:20260513T110000
DTEND;TZID=America/Chicago:20260513T150000
DTSTAMP:20260421T003833
CREATED:20250713T001423Z
LAST-MODIFIED:20250713T001424Z
UID:10006299-1778670000-1778684400@rizalcenter.org
SUMMARY:Bingo at the Rizal Center
DESCRIPTION:Enjoy playing Bingo while making social connections. For more information\, call 773-360-8597 or email info@rizalcenter.org
URL:https://rizalcenter.org/event/bingo-at-the-rizal-center/2026-05-13/
LOCATION:Rizal Center\, 1332 West Irving Park Road\, Chicago\, IL\, 60613\, United States
CATEGORIES:Culture,Programs
END:VEVENT
BEGIN:VEVENT
DTSTART;TZID=America/Chicago:20260514T183000
DTEND;TZID=America/Chicago:20260514T203000
DTSTAMP:20260421T003833
CREATED:20260323T173831Z
LAST-MODIFIED:20260323T173833Z
UID:10002745-1778783400-1778790600@rizalcenter.org
SUMMARY:HG Wrestling & Grappling
DESCRIPTION:Class on wrestling and grappling by Haymaker Gym. For more info contact martialarts@rizalcenter.org.
URL:https://rizalcenter.org/event/hg-wrestling-grappling-3/2026-05-14/
LOCATION:Rizal Center\, 1332 West Irving Park Road\, Chicago\, IL\, 60613\, United States
CATEGORIES:Programs,Wellness
ATTACH;FMTTYPE=image/jpeg:https://rizalcenter.org/wp-content/uploads/2024/05/Haymaker_Gym_317295417.jpg
ORGANIZER;CN="MARC":MAILTO:martialarts@rizalcenter.org
END:VEVENT
BEGIN:VEVENT
DTSTART;TZID=America/Chicago:20260516T120000
DTEND;TZID=America/Chicago:20260516T133000
DTSTAMP:20260421T003833
CREATED:20260323T173910Z
LAST-MODIFIED:20260323T173912Z
UID:10003006-1778932800-1778938200@rizalcenter.org
SUMMARY:HG Open Gym
DESCRIPTION:Open gym for strength stretching\, and conditioning by Haymaker Gym. For more info contact martialarts@rizalcenter.org.
URL:https://rizalcenter.org/event/hg-open-gym-2/2026-05-16/
LOCATION:Rizal Center\, 1332 West Irving Park Road\, Chicago\, IL\, 60613\, United States
CATEGORIES:Programs,Wellness
ATTACH;FMTTYPE=image/jpeg:https://rizalcenter.org/wp-content/uploads/2024/05/Haymaker_Gym_317295417.jpg
ORGANIZER;CN="MARC":MAILTO:martialarts@rizalcenter.org
END:VEVENT
BEGIN:VEVENT
DTSTART;TZID=America/Chicago:20260516T133000
DTEND;TZID=America/Chicago:20260516T153000
DTSTAMP:20260421T003833
CREATED:20260323T173949Z
LAST-MODIFIED:20260323T173951Z
UID:10003528-1778938200-1778945400@rizalcenter.org
SUMMARY:HG Boxing
DESCRIPTION:Class on boxing by Haymaker Gym. For more info contact martialarts@rizalcenter.org.
URL:https://rizalcenter.org/event/hg-boxing-3/2026-05-16/
LOCATION:Rizal Center\, 1332 West Irving Park Road\, Chicago\, IL\, 60613\, United States
CATEGORIES:Programs,Wellness
ATTACH;FMTTYPE=image/jpeg:https://rizalcenter.org/wp-content/uploads/2024/05/Haymaker_Gym_317295417.jpg
ORGANIZER;CN="MARC":MAILTO:martialarts@rizalcenter.org
END:VEVENT
BEGIN:VEVENT
DTSTART;TZID=America/Chicago:20260516T153000
DTEND;TZID=America/Chicago:20260516T170000
DTSTAMP:20260421T003833
CREATED:20260323T174027Z
LAST-MODIFIED:20260323T174029Z
UID:10004050-1778945400-1778950800@rizalcenter.org
SUMMARY:HG Muay Thai
DESCRIPTION:Class on southeast Asian kickboxing by Haymaker Gym. For more info contact martialarts@rizalcenter.org.
URL:https://rizalcenter.org/event/hg-muay-thai/2026-05-16/
LOCATION:Rizal Center\, 1332 West Irving Park Road\, Chicago\, IL\, 60613\, United States
CATEGORIES:Programs,Wellness
ATTACH;FMTTYPE=image/jpeg:https://rizalcenter.org/wp-content/uploads/2024/05/Haymaker_Gym_317295417.jpg
ORGANIZER;CN="MARC":MAILTO:martialarts@rizalcenter.org
END:VEVENT
BEGIN:VEVENT
DTSTART;TZID=America/Chicago:20260517T133000
DTEND;TZID=America/Chicago:20260517T150000
DTSTAMP:20260421T003833
CREATED:20260323T174146Z
LAST-MODIFIED:20260323T174148Z
UID:10004572-1779024600-1779030000@rizalcenter.org
SUMMARY:GH Filipino Martial Arts
DESCRIPTION:Class on Filipino Martial Arts (FMA) by George Hernandez. For more info contact martialarts@rizalcenter.org.
URL:https://rizalcenter.org/event/gh-filipino-martial-arts/2026-05-17/
LOCATION:Rizal Center\, 1332 West Irving Park Road\, Chicago\, IL\, 60613\, United States
CATEGORIES:Programs,Wellness
ATTACH;FMTTYPE=image/jpeg:https://rizalcenter.org/wp-content/uploads/2023/06/Pambansang_Bantayog_ni_Andres_Bonifacio_Bonifacio_National_Monument.jpg
ORGANIZER;CN="MARC":MAILTO:martialarts@rizalcenter.org
END:VEVENT
BEGIN:VEVENT
DTSTART;TZID=America/Chicago:20260520T110000
DTEND;TZID=America/Chicago:20260520T150000
DTSTAMP:20260421T003833
CREATED:20250713T001423Z
LAST-MODIFIED:20250713T001424Z
UID:10006300-1779274800-1779289200@rizalcenter.org
SUMMARY:Bingo at the Rizal Center
DESCRIPTION:Enjoy playing Bingo while making social connections. For more information\, call 773-360-8597 or email info@rizalcenter.org
URL:https://rizalcenter.org/event/bingo-at-the-rizal-center/2026-05-20/
LOCATION:Rizal Center\, 1332 West Irving Park Road\, Chicago\, IL\, 60613\, United States
CATEGORIES:Culture,Programs
END:VEVENT
BEGIN:VEVENT
DTSTART;TZID=America/Chicago:20260521T183000
DTEND;TZID=America/Chicago:20260521T203000
DTSTAMP:20260421T003833
CREATED:20260323T173831Z
LAST-MODIFIED:20260323T173833Z
UID:10002746-1779388200-1779395400@rizalcenter.org
SUMMARY:HG Wrestling & Grappling
DESCRIPTION:Class on wrestling and grappling by Haymaker Gym. For more info contact martialarts@rizalcenter.org.
URL:https://rizalcenter.org/event/hg-wrestling-grappling-3/2026-05-21/
LOCATION:Rizal Center\, 1332 West Irving Park Road\, Chicago\, IL\, 60613\, United States
CATEGORIES:Programs,Wellness
ATTACH;FMTTYPE=image/jpeg:https://rizalcenter.org/wp-content/uploads/2024/05/Haymaker_Gym_317295417.jpg
ORGANIZER;CN="MARC":MAILTO:martialarts@rizalcenter.org
END:VEVENT
BEGIN:VEVENT
DTSTART;TZID=America/Chicago:20260523T120000
DTEND;TZID=America/Chicago:20260523T133000
DTSTAMP:20260421T003833
CREATED:20260323T173910Z
LAST-MODIFIED:20260323T173912Z
UID:10003007-1779537600-1779543000@rizalcenter.org
SUMMARY:HG Open Gym
DESCRIPTION:Open gym for strength stretching\, and conditioning by Haymaker Gym. For more info contact martialarts@rizalcenter.org.
URL:https://rizalcenter.org/event/hg-open-gym-2/2026-05-23/
LOCATION:Rizal Center\, 1332 West Irving Park Road\, Chicago\, IL\, 60613\, United States
CATEGORIES:Programs,Wellness
ATTACH;FMTTYPE=image/jpeg:https://rizalcenter.org/wp-content/uploads/2024/05/Haymaker_Gym_317295417.jpg
ORGANIZER;CN="MARC":MAILTO:martialarts@rizalcenter.org
END:VEVENT
END:VCALENDAR